BEGIN:VCALENDAR
VERSION:2.0
PRODID:-//Virginia Career Works, Capital Region - ECPv6.15.20//NONSGML v1.0//EN
CALSCALE:GREGORIAN
METHOD:PUBLISH
X-WR-CALNAME:Virginia Career Works, Capital Region
X-ORIGINAL-URL:https://vcwcapital.com
X-WR-CALDESC:Events for Virginia Career Works, Capital Region
REFRESH-INTERVAL;VALUE=DURATION:PT1H
X-Robots-Tag:noindex
X-PUBLISHED-TTL:PT1H
BEGIN:VTIMEZONE
TZID:America/New_York
BEGIN:DAYLIGHT
TZOFFSETFROM:-0500
TZOFFSETTO:-0400
TZNAME:EDT
DTSTART:20250309T070000
END:DAYLIGHT
BEGIN:STANDARD
TZOFFSETFROM:-0400
TZOFFSETTO:-0500
TZNAME:EST
DTSTART:20251102T060000
END:STANDARD
BEGIN:DAYLIGHT
TZOFFSETFROM:-0500
TZOFFSETTO:-0400
TZNAME:EDT
DTSTART:20260308T070000
END:DAYLIGHT
BEGIN:STANDARD
TZOFFSETFROM:-0400
TZOFFSETTO:-0500
TZNAME:EST
DTSTART:20261101T060000
END:STANDARD
BEGIN:DAYLIGHT
TZOFFSETFROM:-0500
TZOFFSETTO:-0400
TZNAME:EDT
DTSTART:20270314T070000
END:DAYLIGHT
BEGIN:STANDARD
TZOFFSETFROM:-0400
TZOFFSETTO:-0500
TZNAME:EST
DTSTART:20271107T060000
END:STANDARD
END:VTIMEZONE
BEGIN:VEVENT
DTSTART;TZID=America/New_York:20260224T140000
DTEND;TZID=America/New_York:20260224T150000
DTSTAMP:20260422T184105
CREATED:20260130T165431Z
LAST-MODIFIED:20260130T165431Z
UID:1650-1771941600-1771945200@vcwcapital.com
SUMMARY:Virginia Career Works - Capital Region's February 2026 Career Connect
DESCRIPTION:  \nVirginia Career Works – Capital Region Presents: Career Connect Featuring C&F Bank \nAre you ready to explore a career in banking and financial services—but want real insight before you apply? Our February 2026 Career Connect event will give you a unique opportunity to meet and learn directly from C&F Bank in an engaging\, employer-focused information session! \nJoin us for a behind-the-scenes look at C&F Bank’s workplace culture\, values\, and career opportunities\, while hearing firsthand what it takes to succeed within the organization. \nWhether you’re considering a transition into banking\, seeking long-term career stability\, or simply researching employers before applying\, this Career Connect session is designed to help you make informed career decisions. \nBring your questions and arrive on time! Seating is limited.
URL:https://vcwcapital.com/event/virginia-career-works-capital-regions-february-2026-career-connect/
LOCATION:Virginia Career Works – Richmond West\, 4914 Radford Avenue\, Henrico\, VA\, 23230\, United States
CATEGORIES:Community Event,Job Club,Workshop/Information Session
ATTACH;FMTTYPE=image/png:https://vcwcapital.com/wp-content/uploads/2026/01/Career-Connect-February-2026.png
ORGANIZER;CN="Denisha S. Wilson":MAILTO:Denisha.Wilson@EquusWorks.com
END:VEVENT
END:VCALENDAR